BEGIN:VCALENDAR
VERSION:2.0
PRODID:Events Booking
BEGIN:VEVENT
UID:69e4c721ae7bc
SUMMARY:ABA 3D Club Shoot
DESCRIPTION:ABA 3D Club Shoot
 Grange Bowmen Inc.
 The shoot involves two
  10 3D Target Rounds.
 Round One is the Hunter Round\, which is a one arr
 ow per target round.
 Round Two is the Standard Round\, which is a two ar
 row per target round with both arrows counting towards your score.
LOCATION:534 Albany Creek Road\, Bridgeman Downs\, 4035 Queensland\, Austra
 lia
DTSTART:20250621T220000Z
DTEND:20250622T030000Z
DTSTAMP:20250505T224911Z
ORGANIZER;CN=Grange Bowmen Inc.:MAILTO:bookings@grangebowmen.com.au
GEO:-27.351956;152.984779
X-APPLE-STRUCTURED-LOCATION;VALUE=URI;X-ADDRESS=534 Albany Creek Road\, Bri
 dgeman Downs\, 4035 Queensland\, Australia;X-APPLE-RADIUS=72;X-TITLE=Grang
 e Bowmen Inc.:-27.351956;152.984779
END:VEVENT
END:VCALENDAR