BEGIN:VCALENDAR
VERSION:2.0
PRODID:Events Booking
BEGIN:VEVENT
UID:69e4c6f2b2959
SUMMARY:ABA Club Championships
DESCRIPTION:This is the second of Two ABA Club Championship rounds to be 
 eligible for a Club Champion award\, the other one being the 3D Champions
 hip round on Saturday.
LOCATION:534 Albany Creek Road\, Bridgeman Downs\, 4035 Queensland\, Austra
 lia
DTSTART:20251025T213000Z
DTEND:20251026T060000Z
DTSTAMP:20250506T000427Z
ORGANIZER;CN=Grange Bowmen Inc.:MAILTO:bookings@grangebowmen.com.au
GEO:-27.351956;152.984779
X-APPLE-STRUCTURED-LOCATION;VALUE=URI;X-ADDRESS=534 Albany Creek Road\, Bri
 dgeman Downs\, 4035 Queensland\, Australia;X-APPLE-RADIUS=72;X-TITLE=Grang
 e Bowmen Inc.:-27.351956;152.984779
END:VEVENT
END:VCALENDAR