BEGIN:VCALENDAR
VERSION:2.0
PRODID:Events Booking
BEGIN:VEVENT
UID:69e4e48fa4981
SUMMARY:Interclub Away Shoot: Branch Interclub Shoot
DESCRIPTION:Branch Interclub Shoot
 Granite Belt Bowmen Inc.
 State and N
 ational shoots – refer to ABA club calendar
 REMEMBER TO PRENOMINATE fo
 r Branch\, State and National Shoots.
 Branch Interclub Shoots – Nomina
 tions to Allan Hall\, ABA South Queensland Scorer by 8pm on the Monday BEF
 ORE the shoot
LOCATION:Speranza Ln\, Stanthorpe QLD 4380\, Australia
DTSTART:20250117T220000Z
DTEND:20250119T080000Z
DTSTAMP:20250506T013020Z
ORGANIZER;CN=Grange Bowmen Inc.:MAILTO:bookings@grangebowmen.com.au
GEO:-28.684601;151.94325
X-APPLE-STRUCTURED-LOCATION;VALUE=URI;X-ADDRESS=Speranza Ln\, Stanthorpe QL
 D 4380\, Australia;X-APPLE-RADIUS=72;X-TITLE=Granite Belt Bowmen Inc.:-28.
 684601;151.94325
END:VEVENT
END:VCALENDAR