BEGIN:VCALENDAR
VERSION:2.0
PRODID:Events Booking
BEGIN:VEVENT
UID:69e4f9595f7bd
SUMMARY:Interclub Away Shoot: C vs D (ABA)
DESCRIPTION:C vs D (ABA)
 Saxon Archery Club
 State and National shoots 
 – refer to ABA club calendar
 REMEMBER TO PRENOMINATE for Branch\, Stat
 e and National Shoots.
 Branch Interclub Shoots – Nominations to Allan 
 Hall\, ABA South Queensland Scorer by 8pm on the Monday BEFORE the shoot
LOCATION:260 Quinns Rd\, Moorland QLD 4670\, Australia
DTSTART:20250321T220000Z
DTEND:20250323T080000Z
DTSTAMP:20250506T014928Z
ORGANIZER;CN=Grange Bowmen Inc.:MAILTO:bookings@grangebowmen.com.au
GEO:-24.78956;152.198824
X-APPLE-STRUCTURED-LOCATION;VALUE=URI;X-ADDRESS=260 Quinns Rd\, Moorland QL
 D 4670\, Australia;X-APPLE-RADIUS=72;X-TITLE=Saxon Archery Club:-24.78956;
 152.198824
END:VEVENT
END:VCALENDAR