BEGIN:VCALENDAR
VERSION:2.0
PRODID:Events Booking
BEGIN:VEVENT
UID:69e4e41383e21
SUMMARY:Interclub Away Shoot: 3D State Titles
DESCRIPTION:3D State Titles
 Pacific Bowmen Inc.
 State and National shoo
 ts – refer to ABA club calendar
 REMEMBER TO PRENOMINATE for Branch\, S
 tate and National Shoots.
 Branch Interclub Shoots – Nominations to All
 an Hall\, ABA South Queensland Scorer by 8pm on the Monday BEFORE the shoo
 t
LOCATION:83 Gemvale Rd\, Mudgeeraba QLD 4213\, Australia
DTSTART:20250606T220000Z
DTEND:20250608T080000Z
DTSTAMP:20250506T021047Z
ORGANIZER;CN=Grange Bowmen Inc.:MAILTO:bookings@grangebowmen.com.au
GEO:-28.095876;153.39531
X-APPLE-STRUCTURED-LOCATION;VALUE=URI;X-ADDRESS=83 Gemvale Rd\, Mudgeeraba 
 QLD 4213\, Australia;X-APPLE-RADIUS=72;X-TITLE=Pacific Bowmen Inc.:-28.095
 876;153.39531
END:VEVENT
END:VCALENDAR