BEGIN:VCALENDAR
VERSION:2.0
PRODID:Events Booking
BEGIN:VEVENT
UID:69e4f9585f30b
SUMMARY:Interclub Away Shoot: Gold Cup (ABA)
DESCRIPTION:Gold Cup (ABA)
 Roma &amp\; District Bowmen Inc.
 State and N
 ational shoots – refer to ABA club calendar
 REMEMBER TO PRENOMINATE fo
 r Branch\, State and National Shoots.
 Branch Interclub Shoots – Nomina
 tions to Allan Hall\, ABA South Queensland Scorer by 8pm on the Monday BEF
 ORE the shoot
LOCATION:Carnarvon Hwy\, Euthulla QLD 4455
DTSTART:20250912T220000Z
DTEND:20250914T080000Z
DTSTAMP:20250506T021842Z
ORGANIZER;CN=Grange Bowmen Inc.:MAILTO:bookings@grangebowmen.com.au
GEO:-26.424906;148.788863
X-APPLE-STRUCTURED-LOCATION;VALUE=URI;X-ADDRESS=Carnarvon Hwy\, Euthulla QL
 D 4455;X-APPLE-RADIUS=72;X-TITLE=Roma & District Bowmen Inc.:-26.424906;14
 8.788863
END:VEVENT
END:VCALENDAR