BEGIN:VCALENDAR
VERSION:2.0
PRODID:Events Booking
BEGIN:VEVENT
UID:69e4e41404081
SUMMARY:Interclub Away Shoot: State ABA Titles
DESCRIPTION:State ABA Titles
 State and National shoots – refer to ABA c
 lub calendar
 REMEMBER TO PRENOMINATE for Branch\, State and National Sho
 ots.
 Branch Interclub Shoots – Nominations to Allan Hall\, ABA South Q
 ueensland Scorer by 8pm on the Monday BEFORE the shoot
LOCATION:2283 Yakapari Seaforth Rd\, Seaforth QLD 4741\, Australia
DTSTART:20251003T220000Z
DTEND:20251005T080000Z
DTSTAMP:20250506T022348Z
ORGANIZER;CN=Grange Bowmen Inc.:MAILTO:bookings@grangebowmen.com.au
GEO:-20.904056;148.96361
X-APPLE-STRUCTURED-LOCATION;VALUE=URI;X-ADDRESS=2283 Yakapari Seaforth Rd\,
  Seaforth QLD 4741\, Australia;X-APPLE-RADIUS=72;X-TITLE=Mackay District B
 owmen:-20.904056;148.96361
END:VEVENT
END:VCALENDAR