BEGIN:VCALENDAR
VERSION:2.0
PRODID:Events Booking
BEGIN:VEVENT
UID:69e4f8a404dbe
SUMMARY:Interclub Away Shoot: Club Challenge (ABA)
DESCRIPTION:Club Challenge (ABA)
 Darling Downs Field Archers Inc.
 State
  and National shoots – refer to ABA club calendar
 REMEMBER TO PRENOMIN
 ATE for Branch\, State and National Shoots.
 Branch Interclub Shoots – 
 Nominations to Allan Hall\, ABA South Queensland Scorer by 8pm on the Mond
 ay BEFORE the shoot
LOCATION:69 Willims Rd\, Cranley QLD 4350\, Australia
DTSTART:20251121T220000Z
DTEND:20251123T080000Z
DTSTAMP:20250506T022809Z
ORGANIZER;CN=Grange Bowmen Inc.:MAILTO:bookings@grangebowmen.com.au
GEO:-27.501012;151.924266
X-APPLE-STRUCTURED-LOCATION;VALUE=URI;X-ADDRESS=69 Willims Rd\, Cranley QLD
  4350\, Australia;X-APPLE-RADIUS=72;X-TITLE=Darling Downs Field Archers In
 c.:-27.501012;151.924266
END:VEVENT
END:VCALENDAR