BEGIN:VCALENDAR
VERSION:2.0
PRODID:Events Booking
BEGIN:VEVENT
UID:69e4f9582be7b
SUMMARY:Interclub Away Shoot: ABA Celebration Shoot
DESCRIPTION:ABA Celebration Shoot
 Grange Bowman Inc.
 State and National
  shoots – refer to ABA club calendar
 REMEMBER TO PRENOMINATE for Branc
 h\, State and National Shoots.
 Branch Interclub Shoots – Nominations t
 o Allan Hall\, ABA South Queensland Scorer by 8pm on the Monday BEFORE the
  shoot
LOCATION:534 Albany Creek Road\, Bridgeman Downs\, 4035 Queensland\, Austra
 lia
DTSTART:20250814T220000Z
DTEND:20250817T080000Z
DTSTAMP:20250506T165841Z
ORGANIZER;CN=Grange Bowmen Inc.:MAILTO:bookings@grangebowmen.com.au
GEO:-27.351956;152.984779
X-APPLE-STRUCTURED-LOCATION;VALUE=URI;X-ADDRESS=534 Albany Creek Road\, Bri
 dgeman Downs\, 4035 Queensland\, Australia;X-APPLE-RADIUS=72;X-TITLE=Grang
 e Bowmen Inc.:-27.351956;152.984779
END:VEVENT
END:VCALENDAR