BEGIN:VCALENDAR
VERSION:2.0
PRODID:Events Booking
BEGIN:VEVENT
UID:69e4de4a8cb74
SUMMARY:ABA 3D Club Shoot
DESCRIPTION:ABA 3D Club Shoot
 Grange Bowmen Inc.
 The shoot involves two
  10 3D Target Rounds.
 Round One is the Hunter Round\, which is a one arr
 ow per target round.
 Round Two is the Standard Round\, which is a two ar
 row per target round with both arrows counting towards your score.
DTSTART:20260516T220000Z
DTEND:20260517T030000Z
DTSTAMP:20251104T022925Z
ORGANIZER;CN=Grange Bowmen Inc.:MAILTO:bookings@grangebowmen.com.au
END:VEVENT
END:VCALENDAR