BEGIN:VCALENDAR
VERSION:2.0
PRODID:Events Booking
BEGIN:VEVENT
UID:69e4dede33a39
SUMMARY:Golden Boar Club Shoot
DESCRIPTION:The Golden Boar shoot is a Hunting Style Shoot designed to push
  sighted shooters to the limit.
LOCATION:534 Albany Creek Road\, Bridgeman Downs\, 4035 Queensland\, Austra
 lia
DTSTART:20260627T230000Z
DTEND:20260628T030000Z
DTSTAMP:20251104T170148Z
ORGANIZER;CN=Grange Bowmen Inc.:MAILTO:bookings@grangebowmen.com.au
GEO:-27.351956;152.984779
X-APPLE-STRUCTURED-LOCATION;VALUE=URI;X-ADDRESS=534 Albany Creek Road\, Bri
 dgeman Downs\, 4035 Queensland\, Australia;X-APPLE-RADIUS=72;X-TITLE=Grang
 e Bowmen Inc.:-27.351956;152.984779
END:VEVENT
END:VCALENDAR