BEGIN:VCALENDAR
VERSION:2.0
PRODID:Events Booking
BEGIN:VEVENT
UID:69e4de76a70d8
SUMMARY:The Huntingdale Shoot
DESCRIPTION:This shoot is a barebow competition. All styles are welcome to 
 attend however you must shoot a barebow to claim victory and the title of 
 \"The Huntingdale Shoot\" winner!
LOCATION:534 Albany Creek Road\, Bridgeman Downs\, 4035 Queensland\, Austra
 lia
DTSTART:20260926T220000Z
DTEND:20260927T030000Z
DTSTAMP:20251104T173606Z
ORGANIZER;CN=Grange Bowmen Inc.:MAILTO:bookings@grangebowmen.com.au
GEO:-27.351956;152.984779
X-APPLE-STRUCTURED-LOCATION;VALUE=URI;X-ADDRESS=534 Albany Creek Road\, Bri
 dgeman Downs\, 4035 Queensland\, Australia;X-APPLE-RADIUS=72;X-TITLE=Grang
 e Bowmen Inc.:-27.351956;152.984779
END:VEVENT
END:VCALENDAR