BEGIN:VCALENDAR
VERSION:2.0
PRODID:Events Booking
BEGIN:VEVENT
UID:69e4f99aef457
SUMMARY:Interclub Away Shoot: Branch Interclub ABA
DESCRIPTION:Branch Interclub ABA
 Darling Downs Field Inc.
 State and Nat
 ional shoots – refer to ABA club calendar
 REMEMBER TO PRENOMINATE for 
 Branch\, State and National Shoots.
 Branch Interclub Shoots – Nominati
 ons to Allan Hall\, ABA South Queensland Scorer by 8pm on the Monday BEFOR
 E the shoot
LOCATION:69 Willims Rd\, Cranley QLD 4350\, Australia
DTSTART:20260116T220000Z
DTEND:20260118T080000Z
DTSTAMP:20251104T183313Z
ORGANIZER;CN=Grange Bowmen Inc.:MAILTO:bookings@grangebowmen.com.au
GEO:-27.501012;151.924266
X-APPLE-STRUCTURED-LOCATION;VALUE=URI;X-ADDRESS=69 Willims Rd\, Cranley QLD
  4350\, Australia;X-APPLE-RADIUS=72;X-TITLE=Darling Downs Field Archers In
 c.:-27.501012;151.924266
END:VEVENT
END:VCALENDAR