BEGIN:VCALENDAR
VERSION:2.0
PRODID:Events Booking
BEGIN:VEVENT
UID:69e4e2e62b703
SUMMARY:Interclub Away Shoot: Branch Interclub ABA
DESCRIPTION:Branch Interclub (ABA)
 Warwick and District Archers Ass Inc.
 
 State and National shoots – refer to ABA club calendar
 REMEMBER TO P
 RENOMINATE for Branch\, State and National Shoots.
 Branch Interclub Shoo
 ts – Nominations to Allan Hall\, ABA South Queensland Scorer by 8pm on t
 he Monday BEFORE the shoot
LOCATION:212 Ford Rd\, Rosenthal Heights QLD 4370\, Australia
DTSTART:20260522T220000Z
DTEND:20260524T080000Z
DTSTAMP:20251104T190025Z
ORGANIZER;CN=Grange Bowmen Inc.:MAILTO:bookings@grangebowmen.com.au
GEO:-28.260532;151.952734
X-APPLE-STRUCTURED-LOCATION;VALUE=URI;X-ADDRESS=212 Ford Rd\, Rosenthal Hei
 ghts QLD 4370\, Australia;X-APPLE-RADIUS=72;X-TITLE=Warwick and District A
 rchers Ass Inc.:-28.260532;151.952734
END:VEVENT
END:VCALENDAR