BEGIN:VCALENDAR
VERSION:2.0
PRODID:Events Booking
BEGIN:VEVENT
UID:69e4e2e0759d9
SUMMARY:Interclub Away Shoot: C vs D (ABA)
DESCRIPTION:C vs D (ABA)
 Lakeside Bowmen Inc.
 State and National shoots
  – refer to ABA club calendar
 REMEMBER TO PRENOMINATE for Branch\, Sta
 te and National Shoots.
 Branch Interclub Shoots – Nominations to Allan
  Hall\, ABA South Queensland Scorer by 8pm on the Monday BEFORE the shoot
LOCATION:188 Scout Rd\, Kurwongbah QLD 4503\, Australia
DTSTART:20260605T220000Z
DTEND:20260607T080000Z
DTSTAMP:20251104T190529Z
ORGANIZER;CN=Grange Bowmen Inc.:MAILTO:bookings@grangebowmen.com.au
GEO:-27.24353;152.944799
X-APPLE-STRUCTURED-LOCATION;VALUE=URI;X-ADDRESS=188 Scout Rd\, Kurwongbah Q
 LD 4503\, Australia;X-APPLE-RADIUS=72;X-TITLE=Lakeside Bowmen Inc.:-27.243
 53;152.944799
END:VEVENT
END:VCALENDAR