BEGIN:VCALENDAR
VERSION:2.0
PRODID:Events Booking
BEGIN:VEVENT
UID:69e4f8a4032bb
SUMMARY:Interclub Away Shoot: State ABA Titles
DESCRIPTION:State ABA Titles
 State and National shoots – refer to ABA c
 lub calendar
 REMEMBER TO PRENOMINATE for Branch\, State and National Sho
 ots.
 Branch Interclub Shoots – Nominations to Allan Hall\, ABA South Q
 ueensland Scorer by 8pm on the Monday BEFORE the shoot
LOCATION:JGH5+RR\, Rockhampton City QLD 4700\, Australia
DTSTART:20261002T220000Z
DTEND:20261004T080000Z
DTSTAMP:20251104T192954Z
ORGANIZER;CN=Grange Bowmen Inc.:MAILTO:bookings@grangebowmen.com.au
GEO:-23.370438;150.509563
X-APPLE-STRUCTURED-LOCATION;VALUE=URI;X-ADDRESS=JGH5+RR\, Rockhampton City 
 QLD 4700\, Australia;X-APPLE-RADIUS=72;X-TITLE=Branch C - TBA:-23.370438;1
 50.509563
END:VEVENT
END:VCALENDAR