BEGIN:VCALENDAR
VERSION:2.0
PRODID:Events Booking
BEGIN:VEVENT
UID:69e4cc33c7a84
SUMMARY:Interclub Away Shoot: Club Challenge (ABA)
DESCRIPTION:Club Challenge (ABA)
 Granite Belt Bowmen Inc.
 State and Nat
 ional shoots – refer to ABA club calendar
 REMEMBER TO PRENOMINATE for 
 Branch\, State and National Shoots.
 Branch Interclub Shoots – Nominati
 ons to Allan Hall\, ABA South Queensland Scorer by 8pm on the Monday BEFOR
 E the shoot
LOCATION:Speranza Ln\, Stanthorpe QLD 4380\, Australia
DTSTART:20261120T220000Z
DTEND:20261122T080000Z
DTSTAMP:20251104T193707Z
ORGANIZER;CN=Grange Bowmen Inc.:MAILTO:bookings@grangebowmen.com.au
GEO:-28.684601;151.94325
X-APPLE-STRUCTURED-LOCATION;VALUE=URI;X-ADDRESS=Speranza Ln\, Stanthorpe QL
 D 4380\, Australia;X-APPLE-RADIUS=72;X-TITLE=Granite Belt Bowmen Inc.:-28.
 684601;151.94325
END:VEVENT
END:VCALENDAR