BEGIN:VCALENDAR
VERSION:2.0
PRODID:Events Booking
BEGIN:VEVENT
UID:69e4f8b341e20
SUMMARY:Interclub Away Shoot: ABA National Safari
DESCRIPTION:ABA National Safari
 ABA Park (National Field Venue).
 State 
 and National shoots – refer to ABA club calendar
 REMEMBER TO PRENOMINA
 TE for Branch\, State and National Shoots.
 Branch Interclub Shoots – N
 ominations to Allan Hall\, ABA South Queensland Scorer by 8pm on the Monda
 y BEFORE the shoot
LOCATION:FC9C+QF\, Piambong NSW 2850\, Australia
DTSTART:20260402T220000Z
DTEND:20260405T080000Z
DTSTAMP:20251104T202337Z
ORGANIZER;CN=Grange Bowmen Inc.:MAILTO:bookings@grangebowmen.com.au
GEO:-32.530563;149.421188
X-APPLE-STRUCTURED-LOCATION;VALUE=URI;X-ADDRESS=FC9C+QF\, Piambong NSW 2850
 \, Australia;X-APPLE-RADIUS=72;X-TITLE=ABA Park (National Field Venue):-32
 .530563;149.421188
END:VEVENT
END:VCALENDAR