BEGIN:VCALENDAR
VERSION:2.0
PRODID:Events Booking
BEGIN:VEVENT
UID:69e4cb4bad844
SUMMARY:Try Bow Cup Shoot
DESCRIPTION:The Try Bow Shoot is a Grange Bowmen Inc. members-only fun styl
 e event\, open to all current full and probational members. The shoot feat
 ure three rounds of 10 mixed 3D and field targets. Archers may shoot each 
 round using a mix of traditional\, recurve\, and compound bows.
 Archers 
 will shoot ten ABA-distance targets per round plus a double-points bonus t
 arget. The Try Bow Cup shall be awarded to the highest scoring archers at 
 our annual awards night.
 Shoot Fees includes Bow Hire of Club Bows\, if 
 required.
LOCATION:534 Albany Creek Road\, Bridgeman Downs\, 4035 Queensland\, Austra
 lia
DTSTART:20261128T220000Z
DTEND:20261129T030000Z
DTSTAMP:20260104T151314Z
ORGANIZER;CN=Grange Bowmen Inc.:MAILTO:bookings@grangebowmen.com.au
GEO:-27.351956;152.984779
X-APPLE-STRUCTURED-LOCATION;VALUE=URI;X-ADDRESS=534 Albany Creek Road\, Bri
 dgeman Downs\, 4035 Queensland\, Australia;X-APPLE-RADIUS=72;X-TITLE=Grang
 e Bowmen Inc.:-27.351956;152.984779
END:VEVENT
END:VCALENDAR