BEGIN:VCALENDAR
VERSION:2.0
PRODID:Events Booking
BEGIN:VEVENT
UID:69e4c7e2df1c9
SUMMARY:ABA 3 + 1 Arrow Club Shoot
DESCRIPTION:ABA 3 + 1 Arrow Club Shoot
LOCATION:534 Albany Creek Road\, Bridgeman Downs\, 4035 Queensland\, Austra
 lia
DTSTART:20250222T220000Z
DTEND:20250223T030000Z
DTSTAMP:20250505T211546Z
ORGANIZER;CN=Grange Bowmen Inc.:MAILTO:bookings@grangebowmen.com.au
GEO:-27.351956;152.984779
X-APPLE-STRUCTURED-LOCATION;VALUE=URI;X-ADDRESS=534 Albany Creek Road\, Bri
 dgeman Downs\, 4035 Queensland\, Australia;X-APPLE-RADIUS=72;X-TITLE=Grang
 e Bowmen Inc.:-27.351956;152.984779
END:VEVENT
BEGIN:VEVENT
UID:69e4c7e2df2c5
SUMMARY:Dick Coates Memorial Shoot
DESCRIPTION:Shoot Type: The Dick Coates Memorial Shoot consists of three ro
 unds
LOCATION:534 Albany Creek Road\, Bridgeman Downs\, 4035 Queensland\, Austra
 lia
DTSTART:20250329T220000Z
DTEND:20250330T030000Z
DTSTAMP:20250505T213911Z
ORGANIZER;CN=Grange Bowmen Inc.:MAILTO:bookings@grangebowmen.com.au
GEO:-27.351956;152.984779
X-APPLE-STRUCTURED-LOCATION;VALUE=URI;X-ADDRESS=534 Albany Creek Road\, Bri
 dgeman Downs\, 4035 Queensland\, Australia;X-APPLE-RADIUS=72;X-TITLE=Grang
 e Bowmen Inc.:-27.351956;152.984779
END:VEVENT
BEGIN:VEVENT
UID:69e4c7e2df307
SUMMARY:ABA 3 + 1 Arrow Club Shoot
DESCRIPTION:ABA 3 + 1 Arrow Club Shoot
LOCATION:534 Albany Creek Road\, Bridgeman Downs\, 4035 Queensland\, Austra
 lia
DTSTART:20250426T220000Z
DTEND:20250427T030000Z
DTSTAMP:20250505T211546Z
ORGANIZER;CN=Grange Bowmen Inc.:MAILTO:bookings@grangebowmen.com.au
GEO:-27.351956;152.984779
X-APPLE-STRUCTURED-LOCATION;VALUE=URI;X-ADDRESS=534 Albany Creek Road\, Bri
 dgeman Downs\, 4035 Queensland\, Australia;X-APPLE-RADIUS=72;X-TITLE=Grang
 e Bowmen Inc.:-27.351956;152.984779
END:VEVENT
BEGIN:VEVENT
UID:69e4c7e2df335
SUMMARY:Golden Boar Club Shoot
DESCRIPTION:The Golden Boar shoot is a Hunting Style Shoot designed to push
  sighted shooters to the limit.
LOCATION:534 Albany Creek Road\, Bridgeman Downs\, 4035 Queensland\, Austra
 lia
DTSTART:20250531T220000Z
DTEND:20250601T030000Z
DTSTAMP:20250505T225635Z
ORGANIZER;CN=Grange Bowmen Inc.:MAILTO:bookings@grangebowmen.com.au
GEO:-27.351956;152.984779
X-APPLE-STRUCTURED-LOCATION;VALUE=URI;X-ADDRESS=534 Albany Creek Road\, Bri
 dgeman Downs\, 4035 Queensland\, Australia;X-APPLE-RADIUS=72;X-TITLE=Grang
 e Bowmen Inc.:-27.351956;152.984779
END:VEVENT
BEGIN:VEVENT
UID:69e4c7e2df364
SUMMARY:ABA 3D Club Shoot
DESCRIPTION:ABA 3D Club Shoot
 Grange Bowmen Inc.
 The shoot involves two
  10 3D Target Rounds.
 Round One is the Hunter Round\, which is a one arr
 ow per target round.
 Round Two is the Standard Round\, which is a two ar
 row per target round with both arrows counting towards your score.
LOCATION:534 Albany Creek Road\, Bridgeman Downs\, 4035 Queensland\, Austra
 lia
DTSTART:20250621T220000Z
DTEND:20250622T030000Z
DTSTAMP:20250505T224911Z
ORGANIZER;CN=Grange Bowmen Inc.:MAILTO:bookings@grangebowmen.com.au
GEO:-27.351956;152.984779
X-APPLE-STRUCTURED-LOCATION;VALUE=URI;X-ADDRESS=534 Albany Creek Road\, Bri
 dgeman Downs\, 4035 Queensland\, Australia;X-APPLE-RADIUS=72;X-TITLE=Grang
 e Bowmen Inc.:-27.351956;152.984779
END:VEVENT
BEGIN:VEVENT
UID:69e4c7e2df392
SUMMARY:The Huntingdale Shoot
DESCRIPTION:This shoot is a barebow competition. All styles are welcome to 
 attend however you must shoot a barebow to claim victory and the title of 
 \"The Huntingdale Shoot\" winner!
LOCATION:534 Albany Creek Road\, Bridgeman Downs\, 4035 Queensland\, Austra
 lia
DTSTART:20250927T220000Z
DTEND:20250928T030000Z
DTSTAMP:20250505T230827Z
ORGANIZER;CN=Grange Bowmen Inc.:MAILTO:bookings@grangebowmen.com.au
GEO:-27.351956;152.984779
X-APPLE-STRUCTURED-LOCATION;VALUE=URI;X-ADDRESS=534 Albany Creek Road\, Bri
 dgeman Downs\, 4035 Queensland\, Australia;X-APPLE-RADIUS=72;X-TITLE=Grang
 e Bowmen Inc.:-27.351956;152.984779
END:VEVENT
BEGIN:VEVENT
UID:69e4c7e2df3c0
SUMMARY:3D Club Championships
DESCRIPTION:This is the first of Two ABA Club Championship rounds to be e
 ligible for a Club Champion award\, the second one is the  ABA Club Champ
 ionship round on Sunday.
LOCATION:534 Albany Creek Road\, Bridgeman Downs\, 4035 Queensland\, Austra
 lia
DTSTART:20251024T213000Z
DTEND:20251025T060000Z
DTSTAMP:20250505T235353Z
ORGANIZER;CN=Grange Bowmen Inc.:MAILTO:bookings@grangebowmen.com.au
GEO:-27.351956;152.984779
X-APPLE-STRUCTURED-LOCATION;VALUE=URI;X-ADDRESS=534 Albany Creek Road\, Bri
 dgeman Downs\, 4035 Queensland\, Australia;X-APPLE-RADIUS=72;X-TITLE=Grang
 e Bowmen Inc.:-27.351956;152.984779
END:VEVENT
BEGIN:VEVENT
UID:69e4c7e2df40b
SUMMARY:ABA Club Championships
DESCRIPTION:This is the second of Two ABA Club Championship rounds to be 
 eligible for a Club Champion award\, the other one being the 3D Champions
 hip round on Saturday.
LOCATION:534 Albany Creek Road\, Bridgeman Downs\, 4035 Queensland\, Austra
 lia
DTSTART:20251025T213000Z
DTEND:20251026T060000Z
DTSTAMP:20250506T000427Z
ORGANIZER;CN=Grange Bowmen Inc.:MAILTO:bookings@grangebowmen.com.au
GEO:-27.351956;152.984779
X-APPLE-STRUCTURED-LOCATION;VALUE=URI;X-ADDRESS=534 Albany Creek Road\, Bri
 dgeman Downs\, 4035 Queensland\, Australia;X-APPLE-RADIUS=72;X-TITLE=Grang
 e Bowmen Inc.:-27.351956;152.984779
END:VEVENT
BEGIN:VEVENT
UID:69e4c7e2df43c
SUMMARY:ABA 3 + 1 Arrow Club Shoot
DESCRIPTION:ABA 3 + 1 Arrow Club Shoot
LOCATION:534 Albany Creek Road\, Bridgeman Downs\, 4035 Queensland\, Austra
 lia
DTSTART:20260221T220000Z
DTEND:20260222T030000Z
DTSTAMP:20251104T012045Z
ORGANIZER;CN=Grange Bowmen Inc.:MAILTO:bookings@grangebowmen.com.au
GEO:-27.351956;152.984779
X-APPLE-STRUCTURED-LOCATION;VALUE=URI;X-ADDRESS=534 Albany Creek Road\, Bri
 dgeman Downs\, 4035 Queensland\, Australia;X-APPLE-RADIUS=72;X-TITLE=Grang
 e Bowmen Inc.:-27.351956;152.984779
END:VEVENT
BEGIN:VEVENT
UID:69e4c7e2df46c
SUMMARY:Dick Coates Memorial Shoot
DESCRIPTION:Shoot Type: The Dick Coates Memorial Shoot consists of three ro
 unds
DTSTART:20260328T220000Z
DTEND:20260329T030000Z
DTSTAMP:20251104T015059Z
ORGANIZER;CN=Grange Bowmen Inc.:MAILTO:bookings@grangebowmen.com.au
END:VEVENT
BEGIN:VEVENT
UID:69e4c7e2df49b
SUMMARY:ABA 3 + 1 Arrow Club Shoot
DESCRIPTION:ABA 3 + 1 Arrow Club Shoot
LOCATION:534 Albany Creek Road\, Bridgeman Downs\, 4035 Queensland\, Austra
 lia
DTSTART:20260418T220000Z
DTEND:20260419T030000Z
DTSTAMP:20251104T012045Z
ORGANIZER;CN=Grange Bowmen Inc.:MAILTO:bookings@grangebowmen.com.au
GEO:-27.351956;152.984779
X-APPLE-STRUCTURED-LOCATION;VALUE=URI;X-ADDRESS=534 Albany Creek Road\, Bri
 dgeman Downs\, 4035 Queensland\, Australia;X-APPLE-RADIUS=72;X-TITLE=Grang
 e Bowmen Inc.:-27.351956;152.984779
END:VEVENT
BEGIN:VEVENT
UID:69e4c7e2df4c6
SUMMARY:ABA 3D Club Shoot
DESCRIPTION:ABA 3D Club Shoot
 Grange Bowmen Inc.
 The shoot involves two
  10 3D Target Rounds.
 Round One is the Hunter Round\, which is a one arr
 ow per target round.
 Round Two is the Standard Round\, which is a two ar
 row per target round with both arrows counting towards your score.
DTSTART:20260516T220000Z
DTEND:20260517T030000Z
DTSTAMP:20251104T022925Z
ORGANIZER;CN=Grange Bowmen Inc.:MAILTO:bookings@grangebowmen.com.au
END:VEVENT
BEGIN:VEVENT
UID:69e4c7e2df4f7
SUMMARY:Golden Boar Club Shoot
DESCRIPTION:The Golden Boar shoot is a Hunting Style Shoot designed to push
  sighted shooters to the limit.
LOCATION:534 Albany Creek Road\, Bridgeman Downs\, 4035 Queensland\, Austra
 lia
DTSTART:20260627T230000Z
DTEND:20260628T030000Z
DTSTAMP:20251104T170148Z
ORGANIZER;CN=Grange Bowmen Inc.:MAILTO:bookings@grangebowmen.com.au
GEO:-27.351956;152.984779
X-APPLE-STRUCTURED-LOCATION;VALUE=URI;X-ADDRESS=534 Albany Creek Road\, Bri
 dgeman Downs\, 4035 Queensland\, Australia;X-APPLE-RADIUS=72;X-TITLE=Grang
 e Bowmen Inc.:-27.351956;152.984779
END:VEVENT
BEGIN:VEVENT
UID:69e4c7e2df534
SUMMARY:The Huntingdale Shoot
DESCRIPTION:This shoot is a barebow competition. All styles are welcome to 
 attend however you must shoot a barebow to claim victory and the title of 
 \"The Huntingdale Shoot\" winner!
LOCATION:534 Albany Creek Road\, Bridgeman Downs\, 4035 Queensland\, Austra
 lia
DTSTART:20260926T220000Z
DTEND:20260927T030000Z
DTSTAMP:20251104T173606Z
ORGANIZER;CN=Grange Bowmen Inc.:MAILTO:bookings@grangebowmen.com.au
GEO:-27.351956;152.984779
X-APPLE-STRUCTURED-LOCATION;VALUE=URI;X-ADDRESS=534 Albany Creek Road\, Bri
 dgeman Downs\, 4035 Queensland\, Australia;X-APPLE-RADIUS=72;X-TITLE=Grang
 e Bowmen Inc.:-27.351956;152.984779
END:VEVENT
BEGIN:VEVENT
UID:69e4c7e2df560
SUMMARY:3D Club Championships
DESCRIPTION:This is the first of Two ABA Club Championship rounds to be e
 ligible for a Club Champion award\, the second one is the  ABA Club Champ
 ionship round.
LOCATION:534 Albany Creek Road\, Bridgeman Downs\, 4035 Queensland\, Austra
 lia
DTSTART:20261016T220000Z
DTEND:20261016T140000Z
DTSTAMP:20251104T180424Z
ORGANIZER;CN=Grange Bowmen Inc.:MAILTO:bookings@grangebowmen.com.au
GEO:-27.351956;152.984779
X-APPLE-STRUCTURED-LOCATION;VALUE=URI;X-ADDRESS=534 Albany Creek Road\, Bri
 dgeman Downs\, 4035 Queensland\, Australia;X-APPLE-RADIUS=72;X-TITLE=Grang
 e Bowmen Inc.:-27.351956;152.984779
END:VEVENT
BEGIN:VEVENT
UID:69e4c7e2df591
SUMMARY:ABA Club Championships
DESCRIPTION:This is the second of Two ABA Club Championship rounds to be 
 eligible for a Club Champion award\, the other one being the 3D Champions
 hip round.
LOCATION:534 Albany Creek Road\, Bridgeman Downs\, 4035 Queensland\, Austra
 lia
DTSTART:20261017T220000Z
DTEND:20261017T140000Z
DTSTAMP:20251104T180544Z
ORGANIZER;CN=Grange Bowmen Inc.:MAILTO:bookings@grangebowmen.com.au
GEO:-27.351956;152.984779
X-APPLE-STRUCTURED-LOCATION;VALUE=URI;X-ADDRESS=534 Albany Creek Road\, Bri
 dgeman Downs\, 4035 Queensland\, Australia;X-APPLE-RADIUS=72;X-TITLE=Grang
 e Bowmen Inc.:-27.351956;152.984779
END:VEVENT
BEGIN:VEVENT
UID:69e4c7e2df5bf
SUMMARY:Try Bow Cup Shoot
DESCRIPTION:The Try Bow Shoot is a Grange Bowmen Inc. members-only fun styl
 e event\, open to all current full and probational members. The shoot feat
 ure three rounds of 10 mixed 3D and field targets. Archers may shoot each 
 round using a mix of traditional\, recurve\, and compound bows.
 Archers 
 will shoot ten ABA-distance targets per round plus a double-points bonus t
 arget. The Try Bow Cup shall be awarded to the highest scoring archers at 
 our annual awards night.
 Shoot Fees includes Bow Hire of Club Bows\, if 
 required.
LOCATION:534 Albany Creek Road\, Bridgeman Downs\, 4035 Queensland\, Austra
 lia
DTSTART:20261128T220000Z
DTEND:20261129T030000Z
DTSTAMP:20260104T151314Z
ORGANIZER;CN=Grange Bowmen Inc.:MAILTO:bookings@grangebowmen.com.au
GEO:-27.351956;152.984779
X-APPLE-STRUCTURED-LOCATION;VALUE=URI;X-ADDRESS=534 Albany Creek Road\, Bri
 dgeman Downs\, 4035 Queensland\, Australia;X-APPLE-RADIUS=72;X-TITLE=Grang
 e Bowmen Inc.:-27.351956;152.984779
END:VEVENT
END:VCALENDAR