BEGIN:VCALENDAR
VERSION:2.0
PRODID:Events Booking
BEGIN:VEVENT
UID:69e4f6982df00
SUMMARY:Grange AGM and Walk the Line/Dick Coates
DESCRIPTION:Annual General Meeting of the members of Grange Bowmen Inc. 
 
 The meeting will commence at 9:00am and be followed by Walk the Line Shoot
  as well as the Dick Coates Memorial Shoot.
 Please note the clubhouse an
 d ranges will be closed during the AGM.
LOCATION:534 Albany Creek Road\, Bridgeman Downs\, 4035 Queensland\, Austra
 lia
DTSTART:20250517T230000Z
DTEND:20250518T070000Z
DTSTAMP:20250506T003724Z
ORGANIZER;CN=Grange Bowmen Inc.:MAILTO:bookings@grangebowmen.com.au
GEO:-27.351956;152.984779
X-APPLE-STRUCTURED-LOCATION;VALUE=URI;X-ADDRESS=534 Albany Creek Road\, Bri
 dgeman Downs\, 4035 Queensland\, Australia;X-APPLE-RADIUS=72;X-TITLE=Grang
 e Bowmen Inc.:-27.351956;152.984779
END:VEVENT
BEGIN:VEVENT
UID:69e4f6982e079
SUMMARY:Grange AGM and Walk the Line
DESCRIPTION:The meeting will commence at 9:00am and be followed by Walk the
  Line Shoot as well as the Dick Coates Memorial Shoot.
 Please note the c
 lubhouse and ranges will be closed during the AGM.
DTSTART:20260530T223000Z
DTEND:20260531T070000Z
DTSTAMP:20251104T020855Z
ORGANIZER;CN=Grange Bowmen Inc.:MAILTO:bookings@grangebowmen.com.au
END:VEVENT
END:VCALENDAR