BEGIN:VCALENDAR
VERSION:2.0
PRODID:Events Booking
BEGIN:VEVENT
UID:69e4e28894dfc
SUMMARY:Australia Day Family Fun Shoot
DESCRIPTION:Come and join us for a Australia Day Family Fun Shoot. Starts a
 t 4pm. Light supper will be provided.
 This event is free!!!
LOCATION:534 Albany Creek Road\, Bridgeman Downs\, 4035 Queensland\, Austra
 lia
DTSTART:20250125T060000Z
DTEND:20250125T090000Z
DTSTAMP:20250505T213409Z
ORGANIZER;CN=Grange Bowmen Inc.:MAILTO:bookings@grangebowmen.com.au
GEO:-27.351956;152.984779
X-APPLE-STRUCTURED-LOCATION;VALUE=URI;X-ADDRESS=534 Albany Creek Road\, Bri
 dgeman Downs\, 4035 Queensland\, Australia;X-APPLE-RADIUS=72;X-TITLE=Grang
 e Bowmen Inc.:-27.351956;152.984779
END:VEVENT
BEGIN:VEVENT
UID:69e4e28894ee5
SUMMARY:Halloween Fun Shoot
DESCRIPTION:(This event is not guaranteed yet as we need the numbers to con
 sider running the event\, book your tickets and if we reach a valid amount
  we will run the event.)
 Come and join us for a Halloween Family Fun Sho
 ot. Starts at 5pm. Light supper served at 6pm
 This event is free!!!
LOCATION:534 Albany Creek Road\, Bridgeman Downs\, 4035 Queensland\, Austra
 lia
DTSTART:20251101T070000Z
DTEND:20251101T093000Z
DTSTAMP:20250505T212750Z
ORGANIZER;CN=Grange Bowmen Inc.:MAILTO:bookings@grangebowmen.com.au
GEO:-27.351956;152.984779
X-APPLE-STRUCTURED-LOCATION;VALUE=URI;X-ADDRESS=534 Albany Creek Road\, Bri
 dgeman Downs\, 4035 Queensland\, Australia;X-APPLE-RADIUS=72;X-TITLE=Grang
 e Bowmen Inc.:-27.351956;152.984779
END:VEVENT
BEGIN:VEVENT
UID:69e4e28894f28
SUMMARY:Awards Night and Christmas Party
DESCRIPTION:Come along for a fun filled time. We will be having a fun shoot
  using club equipment. An amazing dinner will be served. Then\, those that
  have excelled throughout the year will be awarded.
LOCATION:534 Albany Creek Road\, Bridgeman Downs\, 4035 Queensland\, Austra
 lia
DTSTART:20251213T060000Z
DTEND:20251213T135500Z
DTSTAMP:20250505T183824Z
ORGANIZER;CN=Grange Bowmen Inc.:MAILTO:bookings@grangebowmen.com.au
GEO:-27.351956;152.984779
X-APPLE-STRUCTURED-LOCATION;VALUE=URI;X-ADDRESS=534 Albany Creek Road\, Bri
 dgeman Downs\, 4035 Queensland\, Australia;X-APPLE-RADIUS=72;X-TITLE=Grang
 e Bowmen Inc.:-27.351956;152.984779
END:VEVENT
BEGIN:VEVENT
UID:69e4e28894f6e
SUMMARY:Halloween Fun Shoot
DESCRIPTION:(This event is not guaranteed yet as we need the numbers to con
 sider running the event\, book your tickets and if we reach a valid amount
  we will run the event.)
 Come and join us for a Halloween Fun Shoot. Sta
 rts at 4pm. Light supper served at 6pm
 This event is free!!!
LOCATION:534 Albany Creek Road\, Bridgeman Downs\, 4035 Queensland\, Austra
 lia
DTSTART:20261031T060000Z
DTEND:20261031T135500Z
DTSTAMP:20251104T175023Z
ORGANIZER;CN=Grange Bowmen Inc.:MAILTO:bookings@grangebowmen.com.au
GEO:-27.351956;152.984779
X-APPLE-STRUCTURED-LOCATION;VALUE=URI;X-ADDRESS=534 Albany Creek Road\, Bri
 dgeman Downs\, 4035 Queensland\, Australia;X-APPLE-RADIUS=72;X-TITLE=Grang
 e Bowmen Inc.:-27.351956;152.984779
END:VEVENT
BEGIN:VEVENT
UID:69e4e28894fa0
SUMMARY:Awards Night and Christmas Party
DESCRIPTION:Come along for a fun filled time. We will be having a fun shoot
  using club equipment. An amazing dinner will be served. Then\, those that
  have excelled throughout the year will be awarded.
LOCATION:534 Albany Creek Road\, Bridgeman Downs\, 4035 Queensland\, Austra
 lia
DTSTART:20261212T060000Z
DTEND:20261212T135500Z
DTSTAMP:20251104T004904Z
ORGANIZER;CN=Grange Bowmen Inc.:MAILTO:bookings@grangebowmen.com.au
GEO:-27.351956;152.984779
X-APPLE-STRUCTURED-LOCATION;VALUE=URI;X-ADDRESS=534 Albany Creek Road\, Bri
 dgeman Downs\, 4035 Queensland\, Australia;X-APPLE-RADIUS=72;X-TITLE=Grang
 e Bowmen Inc.:-27.351956;152.984779
END:VEVENT
END:VCALENDAR