BEGIN:VCALENDAR
VERSION:2.0
PRODID:Events Booking
BEGIN:VEVENT
UID:69e4e3657b505
SUMMARY:Working Bee
DESCRIPTION:Join us for our working bee! Grange Bowmen is closed during wor
 king bee hours. Working bees are held monthly to ensure Grange Bowmen offe
 rs the best facilities possible to our members! All volunteers also receiv
 e a free BBQ lunch and Drink!
LOCATION:534 Albany Creek Road\, Bridgeman Downs\, 4035 Queensland\, Austra
 lia
DTSTART:20250131T220000Z
DTEND:20250201T023000Z
DTSTAMP:20250505T165307Z
ORGANIZER;CN=Grange Bowmen Inc.:MAILTO:bookings@grangebowmen.com.au
GEO:-27.351956;152.984779
X-APPLE-STRUCTURED-LOCATION;VALUE=URI;X-ADDRESS=534 Albany Creek Road\, Bri
 dgeman Downs\, 4035 Queensland\, Australia;X-APPLE-RADIUS=72;X-TITLE=Grang
 e Bowmen Inc.:-27.351956;152.984779
END:VEVENT
BEGIN:VEVENT
UID:69e4e3657b612
SUMMARY:Working Bee
DESCRIPTION:Join us for our working bee! Grange Bowmen is closed during wor
 king bee hours. Working bees are held monthly to ensure Grange Bowmen offe
 rs the best facilities possible to our members! All volunteers also receiv
 e a free BBQ lunch and Drink!
LOCATION:534 Albany Creek Road\, Bridgeman Downs\, 4035 Queensland\, Austra
 lia
DTSTART:20250228T220000Z
DTEND:20250301T023000Z
DTSTAMP:20250505T165307Z
ORGANIZER;CN=Grange Bowmen Inc.:MAILTO:bookings@grangebowmen.com.au
GEO:-27.351956;152.984779
X-APPLE-STRUCTURED-LOCATION;VALUE=URI;X-ADDRESS=534 Albany Creek Road\, Bri
 dgeman Downs\, 4035 Queensland\, Australia;X-APPLE-RADIUS=72;X-TITLE=Grang
 e Bowmen Inc.:-27.351956;152.984779
END:VEVENT
BEGIN:VEVENT
UID:69e4e3657b679
SUMMARY:Working Bee
DESCRIPTION:Join us for our working bee! Grange Bowmen is closed during wor
 king bee hours. Working bees are held monthly to ensure Grange Bowmen offe
 rs the best facilities possible to our members! All volunteers also receiv
 e a free BBQ lunch and Drink!
LOCATION:534 Albany Creek Road\, Bridgeman Downs\, 4035 Queensland\, Austra
 lia
DTSTART:20250404T220000Z
DTEND:20250405T023000Z
DTSTAMP:20250505T165307Z
ORGANIZER;CN=Grange Bowmen Inc.:MAILTO:bookings@grangebowmen.com.au
GEO:-27.351956;152.984779
X-APPLE-STRUCTURED-LOCATION;VALUE=URI;X-ADDRESS=534 Albany Creek Road\, Bri
 dgeman Downs\, 4035 Queensland\, Australia;X-APPLE-RADIUS=72;X-TITLE=Grang
 e Bowmen Inc.:-27.351956;152.984779
END:VEVENT
BEGIN:VEVENT
UID:69e4e3657b6ac
SUMMARY:Working Bee
DESCRIPTION:Join us for our working bee! Grange Bowmen is closed during wor
 king bee hours. Working bees are held monthly to ensure Grange Bowmen offe
 rs the best facilities possible to our members! All volunteers also receiv
 e a free BBQ lunch and Drink!
LOCATION:534 Albany Creek Road\, Bridgeman Downs\, 4035 Queensland\, Austra
 lia
DTSTART:20250502T220000Z
DTEND:20250503T023000Z
DTSTAMP:20250505T165307Z
ORGANIZER;CN=Grange Bowmen Inc.:MAILTO:bookings@grangebowmen.com.au
GEO:-27.351956;152.984779
X-APPLE-STRUCTURED-LOCATION;VALUE=URI;X-ADDRESS=534 Albany Creek Road\, Bri
 dgeman Downs\, 4035 Queensland\, Australia;X-APPLE-RADIUS=72;X-TITLE=Grang
 e Bowmen Inc.:-27.351956;152.984779
END:VEVENT
BEGIN:VEVENT
UID:69e4e3657b6dd
SUMMARY:Working Bee
DESCRIPTION:Join us for our working bee! Grange Bowmen is closed during wor
 king bee hours. Working bees are held monthly to ensure Grange Bowmen offe
 rs the best facilities possible to our members! All volunteers also receiv
 e a free BBQ lunch and Drink!
LOCATION:534 Albany Creek Road\, Bridgeman Downs\, 4035 Queensland\, Austra
 lia
DTSTART:20250606T220000Z
DTEND:20250607T023000Z
DTSTAMP:20250505T165307Z
ORGANIZER;CN=Grange Bowmen Inc.:MAILTO:bookings@grangebowmen.com.au
GEO:-27.351956;152.984779
X-APPLE-STRUCTURED-LOCATION;VALUE=URI;X-ADDRESS=534 Albany Creek Road\, Bri
 dgeman Downs\, 4035 Queensland\, Australia;X-APPLE-RADIUS=72;X-TITLE=Grang
 e Bowmen Inc.:-27.351956;152.984779
END:VEVENT
BEGIN:VEVENT
UID:69e4e3657b70a
SUMMARY:Working Bee
DESCRIPTION:Join us for our working bee! Grange Bowmen is closed during wor
 king bee hours. Working bees are held monthly to ensure Grange Bowmen offe
 rs the best facilities possible to our members! All volunteers also receiv
 e a free BBQ lunch and Drink!
LOCATION:534 Albany Creek Road\, Bridgeman Downs\, 4035 Queensland\, Austra
 lia
DTSTART:20250704T220000Z
DTEND:20250705T023000Z
DTSTAMP:20250505T165307Z
ORGANIZER;CN=Grange Bowmen Inc.:MAILTO:bookings@grangebowmen.com.au
GEO:-27.351956;152.984779
X-APPLE-STRUCTURED-LOCATION;VALUE=URI;X-ADDRESS=534 Albany Creek Road\, Bri
 dgeman Downs\, 4035 Queensland\, Australia;X-APPLE-RADIUS=72;X-TITLE=Grang
 e Bowmen Inc.:-27.351956;152.984779
END:VEVENT
BEGIN:VEVENT
UID:69e4e3657b736
SUMMARY:Working Bee
DESCRIPTION:Join us for our working bee! Grange Bowmen is closed during wor
 king bee hours. Working bees are held monthly to ensure Grange Bowmen offe
 rs the best facilities possible to our members! All volunteers also receiv
 e a free BBQ lunch and Drink!
LOCATION:534 Albany Creek Road\, Bridgeman Downs\, 4035 Queensland\, Austra
 lia
DTSTART:20250801T220000Z
DTEND:20250802T023000Z
DTSTAMP:20250505T165307Z
ORGANIZER;CN=Grange Bowmen Inc.:MAILTO:bookings@grangebowmen.com.au
GEO:-27.351956;152.984779
X-APPLE-STRUCTURED-LOCATION;VALUE=URI;X-ADDRESS=534 Albany Creek Road\, Bri
 dgeman Downs\, 4035 Queensland\, Australia;X-APPLE-RADIUS=72;X-TITLE=Grang
 e Bowmen Inc.:-27.351956;152.984779
END:VEVENT
BEGIN:VEVENT
UID:69e4e3657b763
SUMMARY:Working Bee
DESCRIPTION:Join us for our working bee! Grange Bowmen is closed during wor
 king bee hours. Working bees are held monthly to ensure Grange Bowmen offe
 rs the best facilities possible to our members! All volunteers also receiv
 e a free BBQ lunch and Drink!
LOCATION:534 Albany Creek Road\, Bridgeman Downs\, 4035 Queensland\, Austra
 lia
DTSTART:20250905T220000Z
DTEND:20250906T023000Z
DTSTAMP:20250505T165307Z
ORGANIZER;CN=Grange Bowmen Inc.:MAILTO:bookings@grangebowmen.com.au
GEO:-27.351956;152.984779
X-APPLE-STRUCTURED-LOCATION;VALUE=URI;X-ADDRESS=534 Albany Creek Road\, Bri
 dgeman Downs\, 4035 Queensland\, Australia;X-APPLE-RADIUS=72;X-TITLE=Grang
 e Bowmen Inc.:-27.351956;152.984779
END:VEVENT
BEGIN:VEVENT
UID:69e4e3657b790
SUMMARY:Working Bee
DESCRIPTION:Join us for our working bee! Grange Bowmen is closed during wor
 king bee hours. Working bees are held monthly to ensure Grange Bowmen offe
 rs the best facilities possible to our members! All volunteers also receiv
 e a free BBQ lunch and Drink!
LOCATION:534 Albany Creek Road\, Bridgeman Downs\, 4035 Queensland\, Austra
 lia
DTSTART:20251003T220000Z
DTEND:20251004T023000Z
DTSTAMP:20250505T165307Z
ORGANIZER;CN=Grange Bowmen Inc.:MAILTO:bookings@grangebowmen.com.au
GEO:-27.351956;152.984779
X-APPLE-STRUCTURED-LOCATION;VALUE=URI;X-ADDRESS=534 Albany Creek Road\, Bri
 dgeman Downs\, 4035 Queensland\, Australia;X-APPLE-RADIUS=72;X-TITLE=Grang
 e Bowmen Inc.:-27.351956;152.984779
END:VEVENT
BEGIN:VEVENT
UID:69e4e3657b7bc
SUMMARY:Working Bee
DESCRIPTION:Join us for our working bee! Grange Bowmen is closed during wor
 king bee hours. Working bees are held monthly to ensure Grange Bowmen offe
 rs the best facilities possible to our members! All volunteers also receiv
 e a free BBQ lunch and Drink!
LOCATION:534 Albany Creek Road\, Bridgeman Downs\, 4035 Queensland\, Austra
 lia
DTSTART:20251107T220000Z
DTEND:20251108T023000Z
DTSTAMP:20250505T165307Z
ORGANIZER;CN=Grange Bowmen Inc.:MAILTO:bookings@grangebowmen.com.au
GEO:-27.351956;152.984779
X-APPLE-STRUCTURED-LOCATION;VALUE=URI;X-ADDRESS=534 Albany Creek Road\, Bri
 dgeman Downs\, 4035 Queensland\, Australia;X-APPLE-RADIUS=72;X-TITLE=Grang
 e Bowmen Inc.:-27.351956;152.984779
END:VEVENT
BEGIN:VEVENT
UID:69e4e3657b7e8
SUMMARY:Working Bee
DESCRIPTION:Join us for our working bee! Grange Bowmen is closed during wor
 king bee hours. Working bees are held monthly to ensure Grange Bowmen offe
 rs the best facilities possible to our members! All volunteers also receiv
 e a free BBQ lunch and Drink!
LOCATION:534 Albany Creek Road\, Bridgeman Downs\, 4035 Queensland\, Austra
 lia
DTSTART:20251205T220000Z
DTEND:20251206T023000Z
DTSTAMP:20250505T165307Z
ORGANIZER;CN=Grange Bowmen Inc.:MAILTO:bookings@grangebowmen.com.au
GEO:-27.351956;152.984779
X-APPLE-STRUCTURED-LOCATION;VALUE=URI;X-ADDRESS=534 Albany Creek Road\, Bri
 dgeman Downs\, 4035 Queensland\, Australia;X-APPLE-RADIUS=72;X-TITLE=Grang
 e Bowmen Inc.:-27.351956;152.984779
END:VEVENT
BEGIN:VEVENT
UID:69e4e3657b816
SUMMARY:Working Bee
DESCRIPTION:Join us for our working bee! Grange Bowmen is closed during wor
 king bee hours. Working bees are held monthly to ensure Grange Bowmen offe
 rs the best facilities possible to our members! All volunteers also receiv
 e a free BBQ lunch and Drink!
LOCATION:534 Albany Creek Road\, Bridgeman Downs\, 4035 Queensland\, Austra
 lia
DTSTART:20260130T220000Z
DTEND:20260131T023000Z
DTSTAMP:20251103T200723Z
ORGANIZER;CN=Grange Bowmen Inc.:MAILTO:bookings@grangebowmen.com.au
GEO:-27.351956;152.984779
X-APPLE-STRUCTURED-LOCATION;VALUE=URI;X-ADDRESS=534 Albany Creek Road\, Bri
 dgeman Downs\, 4035 Queensland\, Australia;X-APPLE-RADIUS=72;X-TITLE=Grang
 e Bowmen Inc.:-27.351956;152.984779
END:VEVENT
BEGIN:VEVENT
UID:69e4e3657b848
SUMMARY:Working Bee
DESCRIPTION:Join us for our working bee! Grange Bowmen is closed during wor
 king bee hours. Working bees are held monthly to ensure Grange Bowmen offe
 rs the best facilities possible to our members! All volunteers also receiv
 e a free BBQ lunch and Drink!
LOCATION:534 Albany Creek Road\, Bridgeman Downs\, 4035 Queensland\, Austra
 lia
DTSTART:20260227T220000Z
DTEND:20260228T023000Z
DTSTAMP:20251103T200723Z
ORGANIZER;CN=Grange Bowmen Inc.:MAILTO:bookings@grangebowmen.com.au
GEO:-27.351956;152.984779
X-APPLE-STRUCTURED-LOCATION;VALUE=URI;X-ADDRESS=534 Albany Creek Road\, Bri
 dgeman Downs\, 4035 Queensland\, Australia;X-APPLE-RADIUS=72;X-TITLE=Grang
 e Bowmen Inc.:-27.351956;152.984779
END:VEVENT
BEGIN:VEVENT
UID:69e4e3657b878
SUMMARY:Working Bee
DESCRIPTION:Join us for our working bee! Grange Bowmen is closed during wor
 king bee hours. Working bees are held monthly to ensure Grange Bowmen offe
 rs the best facilities possible to our members! All volunteers also receiv
 e a free BBQ lunch and Drink!
LOCATION:534 Albany Creek Road\, Bridgeman Downs\, 4035 Queensland\, Austra
 lia
DTSTART:20260501T220000Z
DTEND:20260502T023000Z
DTSTAMP:20251103T200723Z
ORGANIZER;CN=Grange Bowmen Inc.:MAILTO:bookings@grangebowmen.com.au
GEO:-27.351956;152.984779
X-APPLE-STRUCTURED-LOCATION;VALUE=URI;X-ADDRESS=534 Albany Creek Road\, Bri
 dgeman Downs\, 4035 Queensland\, Australia;X-APPLE-RADIUS=72;X-TITLE=Grang
 e Bowmen Inc.:-27.351956;152.984779
END:VEVENT
BEGIN:VEVENT
UID:69e4e3657b8a5
SUMMARY:Working Bee
DESCRIPTION:Join us for our working bee! Grange Bowmen is closed during wor
 king bee hours. Working bees are held monthly to ensure Grange Bowmen offe
 rs the best facilities possible to our members! All volunteers also receiv
 e a free BBQ lunch and Drink!
LOCATION:534 Albany Creek Road\, Bridgeman Downs\, 4035 Queensland\, Austra
 lia
DTSTART:20260703T220000Z
DTEND:20260704T023000Z
DTSTAMP:20251103T200723Z
ORGANIZER;CN=Grange Bowmen Inc.:MAILTO:bookings@grangebowmen.com.au
GEO:-27.351956;152.984779
X-APPLE-STRUCTURED-LOCATION;VALUE=URI;X-ADDRESS=534 Albany Creek Road\, Bri
 dgeman Downs\, 4035 Queensland\, Australia;X-APPLE-RADIUS=72;X-TITLE=Grang
 e Bowmen Inc.:-27.351956;152.984779
END:VEVENT
BEGIN:VEVENT
UID:69e4e3657b8d2
SUMMARY:Working Bee
DESCRIPTION:Join us for our working bee! Grange Bowmen is closed during wor
 king bee hours. Working bees are held monthly to ensure Grange Bowmen offe
 rs the best facilities possible to our members! All volunteers also receiv
 e a free BBQ lunch and Drink!
LOCATION:534 Albany Creek Road\, Bridgeman Downs\, 4035 Queensland\, Austra
 lia
DTSTART:20260731T220000Z
DTEND:20260801T023000Z
DTSTAMP:20251103T200723Z
ORGANIZER;CN=Grange Bowmen Inc.:MAILTO:bookings@grangebowmen.com.au
GEO:-27.351956;152.984779
X-APPLE-STRUCTURED-LOCATION;VALUE=URI;X-ADDRESS=534 Albany Creek Road\, Bri
 dgeman Downs\, 4035 Queensland\, Australia;X-APPLE-RADIUS=72;X-TITLE=Grang
 e Bowmen Inc.:-27.351956;152.984779
END:VEVENT
BEGIN:VEVENT
UID:69e4e3657b8ff
SUMMARY:Working Bee
DESCRIPTION:Join us for our working bee! Grange Bowmen is closed during wor
 king bee hours. Working bees are held monthly to ensure Grange Bowmen offe
 rs the best facilities possible to our members! All volunteers also receiv
 e a free BBQ lunch and Drink!
LOCATION:534 Albany Creek Road\, Bridgeman Downs\, 4035 Queensland\, Austra
 lia
DTSTART:20260904T220000Z
DTEND:20260905T023000Z
DTSTAMP:20251103T200723Z
ORGANIZER;CN=Grange Bowmen Inc.:MAILTO:bookings@grangebowmen.com.au
GEO:-27.351956;152.984779
X-APPLE-STRUCTURED-LOCATION;VALUE=URI;X-ADDRESS=534 Albany Creek Road\, Bri
 dgeman Downs\, 4035 Queensland\, Australia;X-APPLE-RADIUS=72;X-TITLE=Grang
 e Bowmen Inc.:-27.351956;152.984779
END:VEVENT
BEGIN:VEVENT
UID:69e4e3657b92b
SUMMARY:Working Bee
DESCRIPTION:Join us for our working bee! Grange Bowmen is closed during wor
 king bee hours. Working bees are held monthly to ensure Grange Bowmen offe
 rs the best facilities possible to our members! All volunteers also receiv
 e a free BBQ lunch and Drink!
LOCATION:534 Albany Creek Road\, Bridgeman Downs\, 4035 Queensland\, Austra
 lia
DTSTART:20261106T220000Z
DTEND:20261107T023000Z
DTSTAMP:20251103T200723Z
ORGANIZER;CN=Grange Bowmen Inc.:MAILTO:bookings@grangebowmen.com.au
GEO:-27.351956;152.984779
X-APPLE-STRUCTURED-LOCATION;VALUE=URI;X-ADDRESS=534 Albany Creek Road\, Bri
 dgeman Downs\, 4035 Queensland\, Australia;X-APPLE-RADIUS=72;X-TITLE=Grang
 e Bowmen Inc.:-27.351956;152.984779
END:VEVENT
BEGIN:VEVENT
UID:69e4e3657b956
SUMMARY:Working Bee
DESCRIPTION:Join us for our working bee! Grange Bowmen is closed during wor
 king bee hours. Working bees are held monthly to ensure Grange Bowmen offe
 rs the best facilities possible to our members! All volunteers also receiv
 e a free BBQ lunch and Drink!
LOCATION:534 Albany Creek Road\, Bridgeman Downs\, 4035 Queensland\, Austra
 lia
DTSTART:20261204T220000Z
DTEND:20261205T023000Z
DTSTAMP:20251103T200723Z
ORGANIZER;CN=Grange Bowmen Inc.:MAILTO:bookings@grangebowmen.com.au
GEO:-27.351956;152.984779
X-APPLE-STRUCTURED-LOCATION;VALUE=URI;X-ADDRESS=534 Albany Creek Road\, Bri
 dgeman Downs\, 4035 Queensland\, Australia;X-APPLE-RADIUS=72;X-TITLE=Grang
 e Bowmen Inc.:-27.351956;152.984779
END:VEVENT
END:VCALENDAR